BEGIN:VCALENDAR
VERSION:2.0
PRODID:-//jEvents 2.0 for Joomla//EN
CALSCALE:GREGORIAN
METHOD:PUBLISH
BEGIN:VTIMEZONE
TZID:Europe/Berlin
BEGIN:STANDARD
DTSTART:20161207T203000
RDATE:20170326T030000
TZOFFSETFROM:+0200
TZOFFSETTO:+0100
TZNAME:Europe/Berlin CET
END:STANDARD
BEGIN:STANDARD
DTSTART:20171029T020000
RDATE:20180325T030000
TZOFFSETFROM:+0200
TZOFFSETTO:+0100
TZNAME:Europe/Berlin CET
END:STANDARD
BEGIN:STANDARD
DTSTART:20181028T020000
RDATE:20190331T030000
TZOFFSETFROM:+0200
TZOFFSETTO:+0100
TZNAME:Europe/Berlin CET
END:STANDARD
BEGIN:STANDARD
DTSTART:20191027T020000
RDATE:20200329T030000
TZOFFSETFROM:+0200
TZOFFSETTO:+0100
TZNAME:Europe/Berlin CET
END:STANDARD
BEGIN:STANDARD
DTSTART:20201025T020000
RDATE:20210328T030000
TZOFFSETFROM:+0200
TZOFFSETTO:+0100
TZNAME:Europe/Berlin CET
END:STANDARD
BEGIN:DAYLIGHT
DTSTART:20170326T030000
RDATE:20171029T020000
TZOFFSETFROM:+0100
TZOFFSETTO:+0200
TZNAME:Europe/Berlin CEST
END:DAYLIGHT
BEGIN:DAYLIGHT
DTSTART:20180325T030000
RDATE:20181028T020000
TZOFFSETFROM:+0100
TZOFFSETTO:+0200
TZNAME:Europe/Berlin CEST
END:DAYLIGHT
BEGIN:DAYLIGHT
DTSTART:20190331T030000
RDATE:20191027T020000
TZOFFSETFROM:+0100
TZOFFSETTO:+0200
TZNAME:Europe/Berlin CEST
END:DAYLIGHT
BEGIN:DAYLIGHT
DTSTART:20200329T030000
RDATE:20201025T020000
TZOFFSETFROM:+0100
TZOFFSETTO:+0200
TZNAME:Europe/Berlin CEST
END:DAYLIGHT
END:VTIMEZONE
BEGIN:VEVENT
UID:77093d4cf691ff131a559003b457d560
CATEGORIES:Hannover
CREATED:20171121T183943
SUMMARY:Die letzte Latin Love Party in diesem Jahr
LOCATION:Wörthstr. 38\, 30161 Hanover
DESCRIPTION;ENCODING=QUOTED-PRINTABLE:\n\n????It's Sensual Night bei u-Dance ???????\n \n 45% Kizomba - 45% Bacha
 ta - 10% Salsa!!!\n Eine Party für alle Kizomba und Bachata-Lover unter Euc
 h!\n \n Wann?\n \n Am Freitag, den 8.12.17 ab 21:00h\n Um 20:30 \n gibts no
 ch einen kleinen Workshop mit Monica aber zum Abschluss des Jahres mit Sals
 a on2 AmV\n \n \n\n \n Musik wie von euch gewünscht von Dawid und Mitchell 
 ..???\n Wie auch versprochen liegt unser Focus dieses Mal die Bachateros au
 ch mit 45 % Bachata glücklich zu machen, mal schauen ob es uns gelingt?!??\
 n Wir sind gespannt...\n
X-EXTRAINFO:Eintritt: 3 Euro
DTSTAMP:20260422T172039Z
DTSTART;TZID=Europe/Berlin:20171208T203000
DTEND;TZID=Europe/Berlin:20171209T010000
SEQUENCE:0
TRANSP:OPAQUE
END:VEVENT
END:VCALENDAR